BEGIN:VCALENDAR
VERSION:2.0
PRODID:-//The Daily Draft - ECPv6.15.20//NONSGML v1.0//EN
CALSCALE:GREGORIAN
METHOD:PUBLISH
X-WR-CALNAME:The Daily Draft
X-ORIGINAL-URL:https://thedailydraft.net
X-WR-CALDESC:Events for The Daily Draft
REFRESH-INTERVAL;VALUE=DURATION:PT1H
X-Robots-Tag:noindex
X-PUBLISHED-TTL:PT1H
BEGIN:VTIMEZONE
TZID:America/New_York
BEGIN:DAYLIGHT
TZOFFSETFROM:-0500
TZOFFSETTO:-0400
TZNAME:EDT
DTSTART:20220313T070000
END:DAYLIGHT
BEGIN:STANDARD
TZOFFSETFROM:-0400
TZOFFSETTO:-0500
TZNAME:EST
DTSTART:20221106T060000
END:STANDARD
BEGIN:DAYLIGHT
TZOFFSETFROM:-0500
TZOFFSETTO:-0400
TZNAME:EDT
DTSTART:20230312T070000
END:DAYLIGHT
BEGIN:STANDARD
TZOFFSETFROM:-0400
TZOFFSETTO:-0500
TZNAME:EST
DTSTART:20231105T060000
END:STANDARD
BEGIN:DAYLIGHT
TZOFFSETFROM:-0500
TZOFFSETTO:-0400
TZNAME:EDT
DTSTART:20240310T070000
END:DAYLIGHT
BEGIN:STANDARD
TZOFFSETFROM:-0400
TZOFFSETTO:-0500
TZNAME:EST
DTSTART:20241103T060000
END:STANDARD
END:VTIMEZONE
BEGIN:VTIMEZONE
TZID:America/Los_Angeles
BEGIN:DAYLIGHT
TZOFFSETFROM:-0800
TZOFFSETTO:-0700
TZNAME:PDT
DTSTART:20250309T100000
END:DAYLIGHT
BEGIN:STANDARD
TZOFFSETFROM:-0700
TZOFFSETTO:-0800
TZNAME:PST
DTSTART:20251102T090000
END:STANDARD
BEGIN:DAYLIGHT
TZOFFSETFROM:-0800
TZOFFSETTO:-0700
TZNAME:PDT
DTSTART:20260308T100000
END:DAYLIGHT
BEGIN:STANDARD
TZOFFSETFROM:-0700
TZOFFSETTO:-0800
TZNAME:PST
DTSTART:20261101T090000
END:STANDARD
BEGIN:DAYLIGHT
TZOFFSETFROM:-0800
TZOFFSETTO:-0700
TZNAME:PDT
DTSTART:20270314T100000
END:DAYLIGHT
BEGIN:STANDARD
TZOFFSETFROM:-0700
TZOFFSETTO:-0800
TZNAME:PST
DTSTART:20271107T090000
END:STANDARD
END:VTIMEZONE
BEGIN:VEVENT
DTSTART;VALUE=DATE:20230511
DTEND;VALUE=DATE:20230512
DTSTAMP:20260425T100442
CREATED:20230505T040102Z
LAST-MODIFIED:20230519T142550Z
UID:3705-1683763200-1683849599@thedailydraft.net
SUMMARY:Singo
DESCRIPTION:Music Bingo Night w/ Lightsup! Entertainment at 7PM
URL:https://thedailydraft.net/event/singo/
LOCATION:NY
CATEGORIES:Running Plays
END:VEVENT
BEGIN:VEVENT
DTSTART;VALUE=DATE:20230509
DTEND;VALUE=DATE:20230510
DTSTAMP:20260425T100442
CREATED:20230505T033354Z
LAST-MODIFIED:20230519T142759Z
UID:3699-1683590400-1683676799@thedailydraft.net
SUMMARY:Wing Night
DESCRIPTION:Enjoy our signature wings for .75 all night long.\nDine in Only (Min 6 wings)
URL:https://thedailydraft.net/event/wing-night/
LOCATION:NY
CATEGORIES:Running Plays
ATTACH;FMTTYPE=image/jpeg:https://thedailydraft.net/wp-content/uploads/2023/05/DSC_7804-15-scaled.jpg
END:VEVENT
BEGIN:VEVENT
DTSTART;VALUE=DATE:20230517
DTEND;VALUE=DATE:20230518
DTSTAMP:20260425T100442
CREATED:20230519T142944Z
LAST-MODIFIED:20230519T142945Z
UID:3944-1684281600-1684367999@thedailydraft.net
SUMMARY:Pool Night
DESCRIPTION:1 Free game of pool with a purchase of an entree
URL:https://thedailydraft.net/event/pool-night-2/
LOCATION:NY
CATEGORIES:Running Plays
ATTACH;FMTTYPE=image/jpeg:https://thedailydraft.net/wp-content/uploads/2023/05/328250188_1723026221450060_8329244144697187216_n.jpg
END:VEVENT
BEGIN:VEVENT
DTSTART;VALUE=DATE:20230511
DTEND;VALUE=DATE:20230512
DTSTAMP:20260425T100442
CREATED:20230505T040102Z
LAST-MODIFIED:20230519T142550Z
UID:3705-1683763200-1683849599@thedailydraft.net
SUMMARY:Singo
DESCRIPTION:Music Bingo Night w/ Lightsup! Entertainment at 7PM
URL:https://thedailydraft.net/event/singo/
LOCATION:NY
CATEGORIES:Running Plays
END:VEVENT
BEGIN:VEVENT
DTSTART;TZID=America/Los_Angeles:20261010T163000
DTEND;TZID=America/Los_Angeles:20261010T183000
DTSTAMP:20260425T100442
CREATED:20251218T175932Z
LAST-MODIFIED:20260331T174648Z
UID:10496-1791649800-1791657000@thedailydraft.net
SUMMARY:FC Cincinnati at Atlanta United FC
DESCRIPTION:
URL:https://thedailydraft.net/event/fc-cincinnati-at-atlanta-united-fc/
LOCATION:Mercedes-Benz Stadium\, Atlanta\, GA\, United States
CATEGORIES:sport
END:VEVENT
BEGIN:VEVENT
DTSTART;VALUE=DATE:20230509
DTEND;VALUE=DATE:20230510
DTSTAMP:20260425T100442
CREATED:20230505T033354Z
LAST-MODIFIED:20230519T142759Z
UID:3699-1683590400-1683676799@thedailydraft.net
SUMMARY:Wing Night
DESCRIPTION:Enjoy our signature wings for .75 all night long.\nDine in Only (Min 6 wings)
URL:https://thedailydraft.net/event/wing-night/
LOCATION:NY
CATEGORIES:Running Plays
ATTACH;FMTTYPE=image/jpeg:https://thedailydraft.net/wp-content/uploads/2023/05/DSC_7804-15-scaled.jpg
END:VEVENT
BEGIN:VEVENT
DTSTART;VALUE=DATE:20230517
DTEND;VALUE=DATE:20230518
DTSTAMP:20260425T100442
CREATED:20230519T142944Z
LAST-MODIFIED:20230519T142945Z
UID:3944-1684281600-1684367999@thedailydraft.net
SUMMARY:Pool Night
DESCRIPTION:1 Free game of pool with a purchase of an entree
URL:https://thedailydraft.net/event/pool-night-2/
LOCATION:NY
CATEGORIES:Running Plays
ATTACH;FMTTYPE=image/jpeg:https://thedailydraft.net/wp-content/uploads/2023/05/328250188_1723026221450060_8329244144697187216_n.jpg
END:VEVENT
BEGIN:VEVENT
DTSTART;TZID=America/Los_Angeles:20261014T163000
DTEND;TZID=America/Los_Angeles:20261014T183000
DTSTAMP:20260425T100442
CREATED:20251218T175932Z
LAST-MODIFIED:20260331T174649Z
UID:10498-1791995400-1792002600@thedailydraft.net
SUMMARY:Atlanta United FC at CF Montreal
DESCRIPTION:
URL:https://thedailydraft.net/event/atlanta-united-fc-at-cf-montreal/
LOCATION:Saputo Stadium
CATEGORIES:sport
END:VEVENT
BEGIN:VEVENT
DTSTART;VALUE=DATE:20230511
DTEND;VALUE=DATE:20230512
DTSTAMP:20260425T100442
CREATED:20230505T040102Z
LAST-MODIFIED:20230519T142550Z
UID:3705-1683763200-1683849599@thedailydraft.net
SUMMARY:Singo
DESCRIPTION:Music Bingo Night w/ Lightsup! Entertainment at 7PM
URL:https://thedailydraft.net/event/singo/
LOCATION:NY
CATEGORIES:Running Plays
END:VEVENT
BEGIN:VEVENT
DTSTART;TZID=America/Los_Angeles:20261017T163000
DTEND;TZID=America/Los_Angeles:20261017T183000
DTSTAMP:20260425T100442
CREATED:20251218T175932Z
LAST-MODIFIED:20260331T174649Z
UID:10499-1792254600-1792261800@thedailydraft.net
SUMMARY:Inter Miami at Atlanta United FC
DESCRIPTION:
URL:https://thedailydraft.net/event/inter-miami-at-atlanta-united-fc/
LOCATION:Mercedes-Benz Stadium\, Atlanta\, GA\, United States
CATEGORIES:sport
END:VEVENT
BEGIN:VEVENT
DTSTART;VALUE=DATE:20230521
DTEND;VALUE=DATE:20230522
DTSTAMP:20260425T100442
CREATED:20230505T040532Z
LAST-MODIFIED:20230519T143350Z
UID:3709-1684627200-1684713599@thedailydraft.net
SUMMARY:Karaoke Night
DESCRIPTION:Karaoke Night with Swing Shift Entertainment on the first and third Sunday of every month at 6PM
URL:https://thedailydraft.net/event/karaoke-night-2/
LOCATION:NY
CATEGORIES:Running Plays
END:VEVENT
BEGIN:VEVENT
DTSTART;VALUE=DATE:20230509
DTEND;VALUE=DATE:20230510
DTSTAMP:20260425T100442
CREATED:20230505T033354Z
LAST-MODIFIED:20230519T142759Z
UID:3699-1683590400-1683676799@thedailydraft.net
SUMMARY:Wing Night
DESCRIPTION:Enjoy our signature wings for .75 all night long.\nDine in Only (Min 6 wings)
URL:https://thedailydraft.net/event/wing-night/
LOCATION:NY
CATEGORIES:Running Plays
ATTACH;FMTTYPE=image/jpeg:https://thedailydraft.net/wp-content/uploads/2023/05/DSC_7804-15-scaled.jpg
END:VEVENT
BEGIN:VEVENT
DTSTART;VALUE=DATE:20230517
DTEND;VALUE=DATE:20230518
DTSTAMP:20260425T100442
CREATED:20230519T142944Z
LAST-MODIFIED:20230519T142945Z
UID:3944-1684281600-1684367999@thedailydraft.net
SUMMARY:Pool Night
DESCRIPTION:1 Free game of pool with a purchase of an entree
URL:https://thedailydraft.net/event/pool-night-2/
LOCATION:NY
CATEGORIES:Running Plays
ATTACH;FMTTYPE=image/jpeg:https://thedailydraft.net/wp-content/uploads/2023/05/328250188_1723026221450060_8329244144697187216_n.jpg
END:VEVENT
BEGIN:VEVENT
DTSTART;VALUE=DATE:20230511
DTEND;VALUE=DATE:20230512
DTSTAMP:20260425T100442
CREATED:20230505T040102Z
LAST-MODIFIED:20230519T142550Z
UID:3705-1683763200-1683849599@thedailydraft.net
SUMMARY:Singo
DESCRIPTION:Music Bingo Night w/ Lightsup! Entertainment at 7PM
URL:https://thedailydraft.net/event/singo/
LOCATION:NY
CATEGORIES:Running Plays
END:VEVENT
BEGIN:VEVENT
DTSTART;TZID=America/Los_Angeles:20261024T163000
DTEND;TZID=America/Los_Angeles:20261024T183000
DTSTAMP:20260425T100442
CREATED:20251218T175932Z
LAST-MODIFIED:20260331T174649Z
UID:10500-1792859400-1792866600@thedailydraft.net
SUMMARY:Chicago Fire at Atlanta United FC
DESCRIPTION:
URL:https://thedailydraft.net/event/chicago-fire-at-atlanta-united-fc/
LOCATION:Mercedes-Benz Stadium\, Atlanta\, GA\, United States
CATEGORIES:sport
END:VEVENT
BEGIN:VEVENT
DTSTART;VALUE=DATE:20230509
DTEND;VALUE=DATE:20230510
DTSTAMP:20260425T100442
CREATED:20230505T033354Z
LAST-MODIFIED:20230519T142759Z
UID:3699-1683590400-1683676799@thedailydraft.net
SUMMARY:Wing Night
DESCRIPTION:Enjoy our signature wings for .75 all night long.\nDine in Only (Min 6 wings)
URL:https://thedailydraft.net/event/wing-night/
LOCATION:NY
CATEGORIES:Running Plays
ATTACH;FMTTYPE=image/jpeg:https://thedailydraft.net/wp-content/uploads/2023/05/DSC_7804-15-scaled.jpg
END:VEVENT
BEGIN:VEVENT
DTSTART;VALUE=DATE:20230517
DTEND;VALUE=DATE:20230518
DTSTAMP:20260425T100442
CREATED:20230519T142944Z
LAST-MODIFIED:20230519T142945Z
UID:3944-1684281600-1684367999@thedailydraft.net
SUMMARY:Pool Night
DESCRIPTION:1 Free game of pool with a purchase of an entree
URL:https://thedailydraft.net/event/pool-night-2/
LOCATION:NY
CATEGORIES:Running Plays
ATTACH;FMTTYPE=image/jpeg:https://thedailydraft.net/wp-content/uploads/2023/05/328250188_1723026221450060_8329244144697187216_n.jpg
END:VEVENT
BEGIN:VEVENT
DTSTART;TZID=America/Los_Angeles:20261028T163000
DTEND;TZID=America/Los_Angeles:20261028T183000
DTSTAMP:20260425T100442
CREATED:20251218T175933Z
LAST-MODIFIED:20260331T174649Z
UID:10501-1793205000-1793212200@thedailydraft.net
SUMMARY:Atlanta United FC at New York City FC
DESCRIPTION:
URL:https://thedailydraft.net/event/atlanta-united-fc-at-new-york-city-fc/
LOCATION:Yankee Stadium\, 2 E 161st St\, Bronx\, NY\, United States
CATEGORIES:sport
END:VEVENT
BEGIN:VEVENT
DTSTART;VALUE=DATE:20230511
DTEND;VALUE=DATE:20230512
DTSTAMP:20260425T100442
CREATED:20230505T040102Z
LAST-MODIFIED:20230519T142550Z
UID:3705-1683763200-1683849599@thedailydraft.net
SUMMARY:Singo
DESCRIPTION:Music Bingo Night w/ Lightsup! Entertainment at 7PM
URL:https://thedailydraft.net/event/singo/
LOCATION:NY
CATEGORIES:Running Plays
END:VEVENT
END:VCALENDAR