BEGIN:VCALENDAR
VERSION:2.0
PRODID:-//The Daily Draft - ECPv6.15.20//NONSGML v1.0//EN
CALSCALE:GREGORIAN
METHOD:PUBLISH
X-ORIGINAL-URL:https://thedailydraft.net
X-WR-CALDESC:Events for The Daily Draft
REFRESH-INTERVAL;VALUE=DURATION:PT1H
X-Robots-Tag:noindex
X-PUBLISHED-TTL:PT1H
BEGIN:VTIMEZONE
TZID:America/Los_Angeles
BEGIN:DAYLIGHT
TZOFFSETFROM:-0800
TZOFFSETTO:-0700
TZNAME:PDT
DTSTART:20250309T100000
END:DAYLIGHT
BEGIN:STANDARD
TZOFFSETFROM:-0700
TZOFFSETTO:-0800
TZNAME:PST
DTSTART:20251102T090000
END:STANDARD
BEGIN:DAYLIGHT
TZOFFSETFROM:-0800
TZOFFSETTO:-0700
TZNAME:PDT
DTSTART:20260308T100000
END:DAYLIGHT
BEGIN:STANDARD
TZOFFSETFROM:-0700
TZOFFSETTO:-0800
TZNAME:PST
DTSTART:20261101T090000
END:STANDARD
BEGIN:DAYLIGHT
TZOFFSETFROM:-0800
TZOFFSETTO:-0700
TZNAME:PDT
DTSTART:20270314T100000
END:DAYLIGHT
BEGIN:STANDARD
TZOFFSETFROM:-0700
TZOFFSETTO:-0800
TZNAME:PST
DTSTART:20271107T090000
END:STANDARD
END:VTIMEZONE
BEGIN:VTIMEZONE
TZID:America/New_York
BEGIN:DAYLIGHT
TZOFFSETFROM:-0500
TZOFFSETTO:-0400
TZNAME:EDT
DTSTART:20220313T070000
END:DAYLIGHT
BEGIN:STANDARD
TZOFFSETFROM:-0400
TZOFFSETTO:-0500
TZNAME:EST
DTSTART:20221106T060000
END:STANDARD
BEGIN:DAYLIGHT
TZOFFSETFROM:-0500
TZOFFSETTO:-0400
TZNAME:EDT
DTSTART:20230312T070000
END:DAYLIGHT
BEGIN:STANDARD
TZOFFSETFROM:-0400
TZOFFSETTO:-0500
TZNAME:EST
DTSTART:20231105T060000
END:STANDARD
BEGIN:DAYLIGHT
TZOFFSETFROM:-0500
TZOFFSETTO:-0400
TZNAME:EDT
DTSTART:20240310T070000
END:DAYLIGHT
BEGIN:STANDARD
TZOFFSETFROM:-0400
TZOFFSETTO:-0500
TZNAME:EST
DTSTART:20241103T060000
END:STANDARD
END:VTIMEZONE
BEGIN:VEVENT
DTSTART;TZID=America/Los_Angeles:20260801T161500
DTEND;TZID=America/Los_Angeles:20260801T181500
DTSTAMP:20260423T133344
CREATED:20250930T151907Z
LAST-MODIFIED:20260422T234646Z
UID:9634-1785600900-1785608100@thedailydraft.net
SUMMARY:Nationals at Braves
DESCRIPTION:
URL:https://thedailydraft.net/event/nationals-at-braves-14/
LOCATION:Truist Park\, 2901 Battery Way\, Atlanta\, GA\, United States
CATEGORIES:sport
END:VEVENT
BEGIN:VEVENT
DTSTART;TZID=America/Los_Angeles:20260801T163000
DTEND;TZID=America/Los_Angeles:20260801T183000
DTSTAMP:20260423T133344
CREATED:20251218T175928Z
LAST-MODIFIED:20260331T174646Z
UID:10483-1785601800-1785609000@thedailydraft.net
SUMMARY:Atlanta United FC at Philadelphia Union
DESCRIPTION:
URL:https://thedailydraft.net/event/atlanta-united-fc-at-philadelphia-union-2/
LOCATION:Subaru Park\, Chester\, PA\, United States
CATEGORIES:sport
END:VEVENT
BEGIN:VEVENT
DTSTART;TZID=America/Los_Angeles:20260802T103500
DTEND;TZID=America/Los_Angeles:20260802T123500
DTSTAMP:20260423T133344
CREATED:20250930T151908Z
LAST-MODIFIED:20260422T234646Z
UID:9635-1785666900-1785674100@thedailydraft.net
SUMMARY:Nationals at Braves
DESCRIPTION:
URL:https://thedailydraft.net/event/nationals-at-braves-15/
LOCATION:Truist Park\, 2901 Battery Way\, Atlanta\, GA\, United States
CATEGORIES:sport
END:VEVENT
BEGIN:VEVENT
DTSTART;VALUE=DATE:20230509
DTEND;VALUE=DATE:20230510
DTSTAMP:20260423T133344
CREATED:20230505T033354Z
LAST-MODIFIED:20230519T142759Z
UID:3699-1683590400-1683676799@thedailydraft.net
SUMMARY:Wing Night
DESCRIPTION:Enjoy our signature wings for .75 all night long.\nDine in Only (Min 6 wings)
URL:https://thedailydraft.net/event/wing-night/
LOCATION:NY
CATEGORIES:Running Plays
ATTACH;FMTTYPE=image/jpeg:https://thedailydraft.net/wp-content/uploads/2023/05/DSC_7804-15-scaled.jpg
END:VEVENT
BEGIN:VEVENT
DTSTART;TZID=America/Los_Angeles:20260804T161500
DTEND;TZID=America/Los_Angeles:20260804T181500
DTSTAMP:20260423T133344
CREATED:20250930T151908Z
LAST-MODIFIED:20260422T234646Z
UID:9636-1785860100-1785867300@thedailydraft.net
SUMMARY:Marlins at Braves
DESCRIPTION:
URL:https://thedailydraft.net/event/marlins-at-braves-12/
LOCATION:Truist Park\, 2901 Battery Way\, Atlanta\, GA\, United States
CATEGORIES:sport
END:VEVENT
BEGIN:VEVENT
DTSTART;VALUE=DATE:20230517
DTEND;VALUE=DATE:20230518
DTSTAMP:20260423T133344
CREATED:20230519T142944Z
LAST-MODIFIED:20230519T142945Z
UID:3944-1684281600-1684367999@thedailydraft.net
SUMMARY:Pool Night
DESCRIPTION:1 Free game of pool with a purchase of an entree
URL:https://thedailydraft.net/event/pool-night-2/
LOCATION:NY
CATEGORIES:Running Plays
ATTACH;FMTTYPE=image/jpeg:https://thedailydraft.net/wp-content/uploads/2023/05/328250188_1723026221450060_8329244144697187216_n.jpg
END:VEVENT
BEGIN:VEVENT
DTSTART;TZID=America/Los_Angeles:20260805T161500
DTEND;TZID=America/Los_Angeles:20260805T181500
DTSTAMP:20260423T133344
CREATED:20250930T151908Z
LAST-MODIFIED:20260422T234646Z
UID:9637-1785946500-1785953700@thedailydraft.net
SUMMARY:Marlins at Braves
DESCRIPTION:
URL:https://thedailydraft.net/event/marlins-at-braves-13/
LOCATION:Truist Park\, 2901 Battery Way\, Atlanta\, GA\, United States
CATEGORIES:sport
END:VEVENT
BEGIN:VEVENT
DTSTART;VALUE=DATE:20230511
DTEND;VALUE=DATE:20230512
DTSTAMP:20260423T133344
CREATED:20230505T040102Z
LAST-MODIFIED:20230519T142550Z
UID:3705-1683763200-1683849599@thedailydraft.net
SUMMARY:Singo
DESCRIPTION:Music Bingo Night w/ Lightsup! Entertainment at 7PM
URL:https://thedailydraft.net/event/singo/
LOCATION:NY
CATEGORIES:Running Plays
END:VEVENT
BEGIN:VEVENT
DTSTART;TZID=America/Los_Angeles:20260806T161500
DTEND;TZID=America/Los_Angeles:20260806T181500
DTSTAMP:20260423T133344
CREATED:20250930T151908Z
LAST-MODIFIED:20260422T234646Z
UID:9638-1786032900-1786040100@thedailydraft.net
SUMMARY:Marlins at Braves
DESCRIPTION:
URL:https://thedailydraft.net/event/marlins-at-braves-14/
LOCATION:Truist Park\, 2901 Battery Way\, Atlanta\, GA\, United States
CATEGORIES:sport
END:VEVENT
BEGIN:VEVENT
DTSTART;TZID=America/Los_Angeles:20260807T160500
DTEND;TZID=America/Los_Angeles:20260807T180500
DTSTAMP:20260423T133344
CREATED:20250930T151908Z
LAST-MODIFIED:20260422T234647Z
UID:9640-1786118700-1786125900@thedailydraft.net
SUMMARY:Braves at Yankees
DESCRIPTION:
URL:https://thedailydraft.net/event/braves-at-yankees-5/
LOCATION:Yankee Stadium\, 2 E 161st St\, Bronx\, NY\, United States
CATEGORIES:sport
END:VEVENT
BEGIN:VEVENT
DTSTART;TZID=America/Los_Angeles:20260808T120500
DTEND;TZID=America/Los_Angeles:20260808T140500
DTSTAMP:20260423T133344
CREATED:20250930T151909Z
LAST-MODIFIED:20260422T234647Z
UID:9641-1786190700-1786197900@thedailydraft.net
SUMMARY:Braves at Yankees
DESCRIPTION:
URL:https://thedailydraft.net/event/braves-at-yankees-6/
LOCATION:Yankee Stadium\, 2 E 161st St\, Bronx\, NY\, United States
CATEGORIES:sport
END:VEVENT
BEGIN:VEVENT
DTSTART;TZID=America/Los_Angeles:20260809T103500
DTEND;TZID=America/Los_Angeles:20260809T123500
DTSTAMP:20260423T133344
CREATED:20250930T151909Z
LAST-MODIFIED:20260422T234647Z
UID:9642-1786271700-1786278900@thedailydraft.net
SUMMARY:Braves at Yankees
DESCRIPTION:
URL:https://thedailydraft.net/event/braves-at-yankees-7/
LOCATION:Yankee Stadium\, 2 E 161st St\, Bronx\, NY\, United States
CATEGORIES:sport
END:VEVENT
BEGIN:VEVENT
DTSTART;TZID=America/Los_Angeles:20260810T161500
DTEND;TZID=America/Los_Angeles:20260810T181500
DTSTAMP:20260423T133344
CREATED:20250930T151909Z
LAST-MODIFIED:20260422T234647Z
UID:9643-1786378500-1786385700@thedailydraft.net
SUMMARY:Mets at Braves
DESCRIPTION:
URL:https://thedailydraft.net/event/mets-at-braves-14/
LOCATION:Truist Park\, 2901 Battery Way\, Atlanta\, GA\, United States
CATEGORIES:sport
END:VEVENT
BEGIN:VEVENT
DTSTART;VALUE=DATE:20230509
DTEND;VALUE=DATE:20230510
DTSTAMP:20260423T133344
CREATED:20230505T033354Z
LAST-MODIFIED:20230519T142759Z
UID:3699-1683590400-1683676799@thedailydraft.net
SUMMARY:Wing Night
DESCRIPTION:Enjoy our signature wings for .75 all night long.\nDine in Only (Min 6 wings)
URL:https://thedailydraft.net/event/wing-night/
LOCATION:NY
CATEGORIES:Running Plays
ATTACH;FMTTYPE=image/jpeg:https://thedailydraft.net/wp-content/uploads/2023/05/DSC_7804-15-scaled.jpg
END:VEVENT
BEGIN:VEVENT
DTSTART;TZID=America/Los_Angeles:20260811T161500
DTEND;TZID=America/Los_Angeles:20260811T181500
DTSTAMP:20260423T133344
CREATED:20250930T151909Z
LAST-MODIFIED:20260422T234647Z
UID:9644-1786464900-1786472100@thedailydraft.net
SUMMARY:Mets at Braves
DESCRIPTION:
URL:https://thedailydraft.net/event/mets-at-braves-15/
LOCATION:Truist Park\, 2901 Battery Way\, Atlanta\, GA\, United States
CATEGORIES:sport
END:VEVENT
BEGIN:VEVENT
DTSTART;VALUE=DATE:20230517
DTEND;VALUE=DATE:20230518
DTSTAMP:20260423T133344
CREATED:20230519T142944Z
LAST-MODIFIED:20230519T142945Z
UID:3944-1684281600-1684367999@thedailydraft.net
SUMMARY:Pool Night
DESCRIPTION:1 Free game of pool with a purchase of an entree
URL:https://thedailydraft.net/event/pool-night-2/
LOCATION:NY
CATEGORIES:Running Plays
ATTACH;FMTTYPE=image/jpeg:https://thedailydraft.net/wp-content/uploads/2023/05/328250188_1723026221450060_8329244144697187216_n.jpg
END:VEVENT
BEGIN:VEVENT
DTSTART;TZID=America/Los_Angeles:20260812T161500
DTEND;TZID=America/Los_Angeles:20260812T181500
DTSTAMP:20260423T133344
CREATED:20250930T151909Z
LAST-MODIFIED:20260422T234647Z
UID:9645-1786551300-1786558500@thedailydraft.net
SUMMARY:Mets at Braves
DESCRIPTION:
URL:https://thedailydraft.net/event/mets-at-braves-16/
LOCATION:Truist Park\, 2901 Battery Way\, Atlanta\, GA\, United States
CATEGORIES:sport
END:VEVENT
BEGIN:VEVENT
DTSTART;VALUE=DATE:20230511
DTEND;VALUE=DATE:20230512
DTSTAMP:20260423T133344
CREATED:20230505T040102Z
LAST-MODIFIED:20230519T142550Z
UID:3705-1683763200-1683849599@thedailydraft.net
SUMMARY:Singo
DESCRIPTION:Music Bingo Night w/ Lightsup! Entertainment at 7PM
URL:https://thedailydraft.net/event/singo/
LOCATION:NY
CATEGORIES:Running Plays
END:VEVENT
BEGIN:VEVENT
DTSTART;TZID=America/Los_Angeles:20260814T161500
DTEND;TZID=America/Los_Angeles:20260814T181500
DTSTAMP:20260423T133344
CREATED:20250930T151910Z
LAST-MODIFIED:20260422T234647Z
UID:9646-1786724100-1786731300@thedailydraft.net
SUMMARY:D-backs at Braves
DESCRIPTION:
URL:https://thedailydraft.net/event/diamondbacks-at-braves-4/
LOCATION:Truist Park\, 2901 Battery Way\, Atlanta\, GA\, United States
CATEGORIES:sport
END:VEVENT
BEGIN:VEVENT
DTSTART;TZID=America/Los_Angeles:20260815T161500
DTEND;TZID=America/Los_Angeles:20260815T181500
DTSTAMP:20260423T133344
CREATED:20250930T151910Z
LAST-MODIFIED:20260422T234647Z
UID:9647-1786810500-1786817700@thedailydraft.net
SUMMARY:D-backs at Braves
DESCRIPTION:
URL:https://thedailydraft.net/event/diamondbacks-at-braves-5/
LOCATION:Truist Park\, 2901 Battery Way\, Atlanta\, GA\, United States
CATEGORIES:sport
END:VEVENT
BEGIN:VEVENT
DTSTART;TZID=America/Los_Angeles:20260815T163000
DTEND;TZID=America/Los_Angeles:20260815T183000
DTSTAMP:20260423T133344
CREATED:20251218T175929Z
LAST-MODIFIED:20260331T174646Z
UID:10484-1786811400-1786818600@thedailydraft.net
SUMMARY:New York Red Bulls at Atlanta United FC
DESCRIPTION:
URL:https://thedailydraft.net/event/new-york-red-bulls-at-atlanta-united-fc-2/
LOCATION:Mercedes-Benz Stadium\, Atlanta\, GA\, United States
CATEGORIES:sport
END:VEVENT
BEGIN:VEVENT
DTSTART;VALUE=DATE:20230521
DTEND;VALUE=DATE:20230522
DTSTAMP:20260423T133344
CREATED:20230505T040532Z
LAST-MODIFIED:20230519T143350Z
UID:3709-1684627200-1684713599@thedailydraft.net
SUMMARY:Karaoke Night
DESCRIPTION:Karaoke Night with Swing Shift Entertainment on the first and third Sunday of every month at 6PM
URL:https://thedailydraft.net/event/karaoke-night-2/
LOCATION:NY
CATEGORIES:Running Plays
END:VEVENT
BEGIN:VEVENT
DTSTART;TZID=America/Los_Angeles:20260816T103500
DTEND;TZID=America/Los_Angeles:20260816T123500
DTSTAMP:20260423T133344
CREATED:20250930T151910Z
LAST-MODIFIED:20260422T234648Z
UID:9648-1786876500-1786883700@thedailydraft.net
SUMMARY:D-backs at Braves
DESCRIPTION:
URL:https://thedailydraft.net/event/diamondbacks-at-braves-6/
LOCATION:Truist Park\, 2901 Battery Way\, Atlanta\, GA\, United States
CATEGORIES:sport
END:VEVENT
BEGIN:VEVENT
DTSTART;TZID=America/Los_Angeles:20260817T164000
DTEND;TZID=America/Los_Angeles:20260817T184000
DTSTAMP:20260423T133344
CREATED:20250930T151910Z
LAST-MODIFIED:20260422T234648Z
UID:9649-1786984800-1786992000@thedailydraft.net
SUMMARY:Braves at Twins
DESCRIPTION:
URL:https://thedailydraft.net/event/braves-at-twins-6/
LOCATION:Target Field\, Columbia Heights\, MN\, United States
CATEGORIES:sport
END:VEVENT
BEGIN:VEVENT
DTSTART;VALUE=DATE:20230509
DTEND;VALUE=DATE:20230510
DTSTAMP:20260423T133344
CREATED:20230505T033354Z
LAST-MODIFIED:20230519T142759Z
UID:3699-1683590400-1683676799@thedailydraft.net
SUMMARY:Wing Night
DESCRIPTION:Enjoy our signature wings for .75 all night long.\nDine in Only (Min 6 wings)
URL:https://thedailydraft.net/event/wing-night/
LOCATION:NY
CATEGORIES:Running Plays
ATTACH;FMTTYPE=image/jpeg:https://thedailydraft.net/wp-content/uploads/2023/05/DSC_7804-15-scaled.jpg
END:VEVENT
BEGIN:VEVENT
DTSTART;TZID=America/Los_Angeles:20260818T164000
DTEND;TZID=America/Los_Angeles:20260818T184000
DTSTAMP:20260423T133344
CREATED:20250930T151910Z
LAST-MODIFIED:20260422T234648Z
UID:9650-1787071200-1787078400@thedailydraft.net
SUMMARY:Braves at Twins
DESCRIPTION:
URL:https://thedailydraft.net/event/braves-at-twins-7/
LOCATION:Target Field\, Columbia Heights\, MN\, United States
CATEGORIES:sport
END:VEVENT
BEGIN:VEVENT
DTSTART;VALUE=DATE:20230517
DTEND;VALUE=DATE:20230518
DTSTAMP:20260423T133344
CREATED:20230519T142944Z
LAST-MODIFIED:20230519T142945Z
UID:3944-1684281600-1684367999@thedailydraft.net
SUMMARY:Pool Night
DESCRIPTION:1 Free game of pool with a purchase of an entree
URL:https://thedailydraft.net/event/pool-night-2/
LOCATION:NY
CATEGORIES:Running Plays
ATTACH;FMTTYPE=image/jpeg:https://thedailydraft.net/wp-content/uploads/2023/05/328250188_1723026221450060_8329244144697187216_n.jpg
END:VEVENT
BEGIN:VEVENT
DTSTART;TZID=America/Los_Angeles:20260819T104000
DTEND;TZID=America/Los_Angeles:20260819T124000
DTSTAMP:20260423T133344
CREATED:20250930T151911Z
LAST-MODIFIED:20260422T234648Z
UID:9651-1787136000-1787143200@thedailydraft.net
SUMMARY:Braves at Twins
DESCRIPTION:
URL:https://thedailydraft.net/event/braves-at-twins-8/
LOCATION:Target Field\, Columbia Heights\, MN\, United States
CATEGORIES:sport
END:VEVENT
BEGIN:VEVENT
DTSTART;TZID=America/Los_Angeles:20260819T173000
DTEND;TZID=America/Los_Angeles:20260819T193000
DTSTAMP:20260423T133344
CREATED:20251218T175929Z
LAST-MODIFIED:20260331T174646Z
UID:10486-1787160600-1787167800@thedailydraft.net
SUMMARY:Atlanta United FC at Minnesota United FC
DESCRIPTION:
URL:https://thedailydraft.net/event/atlanta-united-fc-at-minnesota-united-fc/
LOCATION:Allianz Field
CATEGORIES:sport
END:VEVENT
BEGIN:VEVENT
DTSTART;VALUE=DATE:20230511
DTEND;VALUE=DATE:20230512
DTSTAMP:20260423T133344
CREATED:20230505T040102Z
LAST-MODIFIED:20230519T142550Z
UID:3705-1683763200-1683849599@thedailydraft.net
SUMMARY:Singo
DESCRIPTION:Music Bingo Night w/ Lightsup! Entertainment at 7PM
URL:https://thedailydraft.net/event/singo/
LOCATION:NY
CATEGORIES:Running Plays
END:VEVENT
END:VCALENDAR