BEGIN:VCALENDAR
VERSION:2.0
PRODID:-//The Daily Draft - ECPv6.15.20//NONSGML v1.0//EN
CALSCALE:GREGORIAN
METHOD:PUBLISH
X-WR-CALNAME:The Daily Draft
X-ORIGINAL-URL:https://thedailydraft.net
X-WR-CALDESC:Events for The Daily Draft
REFRESH-INTERVAL;VALUE=DURATION:PT1H
X-Robots-Tag:noindex
X-PUBLISHED-TTL:PT1H
BEGIN:VTIMEZONE
TZID:America/New_York
BEGIN:DAYLIGHT
TZOFFSETFROM:-0500
TZOFFSETTO:-0400
TZNAME:EDT
DTSTART:20220313T070000
END:DAYLIGHT
BEGIN:STANDARD
TZOFFSETFROM:-0400
TZOFFSETTO:-0500
TZNAME:EST
DTSTART:20221106T060000
END:STANDARD
BEGIN:DAYLIGHT
TZOFFSETFROM:-0500
TZOFFSETTO:-0400
TZNAME:EDT
DTSTART:20230312T070000
END:DAYLIGHT
BEGIN:STANDARD
TZOFFSETFROM:-0400
TZOFFSETTO:-0500
TZNAME:EST
DTSTART:20231105T060000
END:STANDARD
BEGIN:DAYLIGHT
TZOFFSETFROM:-0500
TZOFFSETTO:-0400
TZNAME:EDT
DTSTART:20240310T070000
END:DAYLIGHT
BEGIN:STANDARD
TZOFFSETFROM:-0400
TZOFFSETTO:-0500
TZNAME:EST
DTSTART:20241103T060000
END:STANDARD
END:VTIMEZONE
BEGIN:VTIMEZONE
TZID:America/Los_Angeles
BEGIN:DAYLIGHT
TZOFFSETFROM:-0800
TZOFFSETTO:-0700
TZNAME:PDT
DTSTART:20250309T100000
END:DAYLIGHT
BEGIN:STANDARD
TZOFFSETFROM:-0700
TZOFFSETTO:-0800
TZNAME:PST
DTSTART:20251102T090000
END:STANDARD
BEGIN:DAYLIGHT
TZOFFSETFROM:-0800
TZOFFSETTO:-0700
TZNAME:PDT
DTSTART:20260308T100000
END:DAYLIGHT
BEGIN:STANDARD
TZOFFSETFROM:-0700
TZOFFSETTO:-0800
TZNAME:PST
DTSTART:20261101T090000
END:STANDARD
BEGIN:DAYLIGHT
TZOFFSETFROM:-0800
TZOFFSETTO:-0700
TZNAME:PDT
DTSTART:20270314T100000
END:DAYLIGHT
BEGIN:STANDARD
TZOFFSETFROM:-0700
TZOFFSETTO:-0800
TZNAME:PST
DTSTART:20271107T090000
END:STANDARD
END:VTIMEZONE
BEGIN:VEVENT
DTSTART;VALUE=DATE:20230517
DTEND;VALUE=DATE:20230518
DTSTAMP:20260423T114708
CREATED:20230519T142944Z
LAST-MODIFIED:20230519T142945Z
UID:3944-1684281600-1684367999@thedailydraft.net
SUMMARY:Pool Night
DESCRIPTION:1 Free game of pool with a purchase of an entree
URL:https://thedailydraft.net/event/pool-night-2/
LOCATION:NY
CATEGORIES:Running Plays
ATTACH;FMTTYPE=image/jpeg:https://thedailydraft.net/wp-content/uploads/2023/05/328250188_1723026221450060_8329244144697187216_n.jpg
END:VEVENT
BEGIN:VEVENT
DTSTART;TZID=America/Los_Angeles:20260701T161500
DTEND;TZID=America/Los_Angeles:20260701T181500
DTSTAMP:20260423T114708
CREATED:20250930T151859Z
LAST-MODIFIED:20260422T234643Z
UID:9607-1782922500-1782929700@thedailydraft.net
SUMMARY:Cardinals at Braves
DESCRIPTION:
URL:https://thedailydraft.net/event/cardinals-at-braves-5/
LOCATION:Truist Park\, 2901 Battery Way\, Atlanta\, GA\, United States
CATEGORIES:sport
END:VEVENT
BEGIN:VEVENT
DTSTART;VALUE=DATE:20230511
DTEND;VALUE=DATE:20230512
DTSTAMP:20260423T114708
CREATED:20230505T040102Z
LAST-MODIFIED:20230519T142550Z
UID:3705-1683763200-1683849599@thedailydraft.net
SUMMARY:Singo
DESCRIPTION:Music Bingo Night w/ Lightsup! Entertainment at 7PM
URL:https://thedailydraft.net/event/singo/
LOCATION:NY
CATEGORIES:Running Plays
END:VEVENT
BEGIN:VEVENT
DTSTART;TZID=America/Los_Angeles:20260702T161500
DTEND;TZID=America/Los_Angeles:20260702T181500
DTSTAMP:20260423T114708
CREATED:20250930T151859Z
LAST-MODIFIED:20260422T234643Z
UID:9608-1783008900-1783016100@thedailydraft.net
SUMMARY:Cardinals at Braves
DESCRIPTION:
URL:https://thedailydraft.net/event/cardinals-at-braves-6/
LOCATION:Truist Park\, 2901 Battery Way\, Atlanta\, GA\, United States
CATEGORIES:sport
END:VEVENT
BEGIN:VEVENT
DTSTART;TZID=America/Los_Angeles:20260703T161500
DTEND;TZID=America/Los_Angeles:20260703T181500
DTSTAMP:20260423T114708
CREATED:20250930T151859Z
LAST-MODIFIED:20260422T234643Z
UID:9609-1783095300-1783102500@thedailydraft.net
SUMMARY:Mets at Braves
DESCRIPTION:
URL:https://thedailydraft.net/event/mets-at-braves-10/
LOCATION:Truist Park\, 2901 Battery Way\, Atlanta\, GA\, United States
CATEGORIES:sport
END:VEVENT
BEGIN:VEVENT
DTSTART;TZID=America/Los_Angeles:20260704T170800
DTEND;TZID=America/Los_Angeles:20260704T190800
DTSTAMP:20260423T114708
CREATED:20250930T151900Z
LAST-MODIFIED:20260422T234643Z
UID:9610-1783184880-1783192080@thedailydraft.net
SUMMARY:Mets at Braves
DESCRIPTION:
URL:https://thedailydraft.net/event/mets-at-braves-11/
LOCATION:Truist Park\, 2901 Battery Way\, Atlanta\, GA\, United States
CATEGORIES:sport
END:VEVENT
BEGIN:VEVENT
DTSTART;TZID=America/Los_Angeles:20260705T093000
DTEND;TZID=America/Los_Angeles:20260705T113000
DTSTAMP:20260423T114708
CREATED:20250930T151900Z
LAST-MODIFIED:20260422T234643Z
UID:9611-1783243800-1783251000@thedailydraft.net
SUMMARY:Mets at Braves
DESCRIPTION:
URL:https://thedailydraft.net/event/mets-at-braves-12/
LOCATION:Truist Park\, 2901 Battery Way\, Atlanta\, GA\, United States
CATEGORIES:sport
END:VEVENT
BEGIN:VEVENT
DTSTART;TZID=America/Los_Angeles:20260706T161500
DTEND;TZID=America/Los_Angeles:20260706T181500
DTSTAMP:20260423T114708
CREATED:20250930T151900Z
LAST-MODIFIED:20260422T234643Z
UID:9612-1783354500-1783361700@thedailydraft.net
SUMMARY:Mets at Braves
DESCRIPTION:
URL:https://thedailydraft.net/event/mets-at-braves-13/
LOCATION:Truist Park\, 2901 Battery Way\, Atlanta\, GA\, United States
CATEGORIES:sport
END:VEVENT
BEGIN:VEVENT
DTSTART;VALUE=DATE:20230509
DTEND;VALUE=DATE:20230510
DTSTAMP:20260423T114708
CREATED:20230505T033354Z
LAST-MODIFIED:20230519T142759Z
UID:3699-1683590400-1683676799@thedailydraft.net
SUMMARY:Wing Night
DESCRIPTION:Enjoy our signature wings for .75 all night long.\nDine in Only (Min 6 wings)
URL:https://thedailydraft.net/event/wing-night/
LOCATION:NY
CATEGORIES:Running Plays
ATTACH;FMTTYPE=image/jpeg:https://thedailydraft.net/wp-content/uploads/2023/05/DSC_7804-15-scaled.jpg
END:VEVENT
BEGIN:VEVENT
DTSTART;TZID=America/Los_Angeles:20260707T154000
DTEND;TZID=America/Los_Angeles:20260707T174000
DTSTAMP:20260423T114708
CREATED:20250930T151900Z
LAST-MODIFIED:20260422T234643Z
UID:9613-1783438800-1783446000@thedailydraft.net
SUMMARY:Braves at Pirates
DESCRIPTION:
URL:https://thedailydraft.net/event/braves-at-pirates-15/
LOCATION:PNC Park\, 115 Federal St\, Pittsburgh\, PA\, United States
CATEGORIES:sport
END:VEVENT
BEGIN:VEVENT
DTSTART;VALUE=DATE:20230517
DTEND;VALUE=DATE:20230518
DTSTAMP:20260423T114708
CREATED:20230519T142944Z
LAST-MODIFIED:20230519T142945Z
UID:3944-1684281600-1684367999@thedailydraft.net
SUMMARY:Pool Night
DESCRIPTION:1 Free game of pool with a purchase of an entree
URL:https://thedailydraft.net/event/pool-night-2/
LOCATION:NY
CATEGORIES:Running Plays
ATTACH;FMTTYPE=image/jpeg:https://thedailydraft.net/wp-content/uploads/2023/05/328250188_1723026221450060_8329244144697187216_n.jpg
END:VEVENT
BEGIN:VEVENT
DTSTART;TZID=America/Los_Angeles:20260708T154000
DTEND;TZID=America/Los_Angeles:20260708T174000
DTSTAMP:20260423T114708
CREATED:20250930T151901Z
LAST-MODIFIED:20260422T234644Z
UID:9614-1783525200-1783532400@thedailydraft.net
SUMMARY:Braves at Pirates
DESCRIPTION:
URL:https://thedailydraft.net/event/braves-at-pirates-16/
LOCATION:PNC Park\, 115 Federal St\, Pittsburgh\, PA\, United States
CATEGORIES:sport
END:VEVENT
BEGIN:VEVENT
DTSTART;VALUE=DATE:20230511
DTEND;VALUE=DATE:20230512
DTSTAMP:20260423T114708
CREATED:20230505T040102Z
LAST-MODIFIED:20230519T142550Z
UID:3705-1683763200-1683849599@thedailydraft.net
SUMMARY:Singo
DESCRIPTION:Music Bingo Night w/ Lightsup! Entertainment at 7PM
URL:https://thedailydraft.net/event/singo/
LOCATION:NY
CATEGORIES:Running Plays
END:VEVENT
BEGIN:VEVENT
DTSTART;TZID=America/Los_Angeles:20260709T093500
DTEND;TZID=America/Los_Angeles:20260709T113500
DTSTAMP:20260423T114708
CREATED:20250930T151901Z
LAST-MODIFIED:20260422T234644Z
UID:9615-1783589700-1783596900@thedailydraft.net
SUMMARY:Braves at Pirates
DESCRIPTION:
URL:https://thedailydraft.net/event/braves-at-pirates-17/
LOCATION:PNC Park\, 115 Federal St\, Pittsburgh\, PA\, United States
CATEGORIES:sport
END:VEVENT
BEGIN:VEVENT
DTSTART;TZID=America/Los_Angeles:20260710T171500
DTEND;TZID=America/Los_Angeles:20260710T191500
DTSTAMP:20260423T114708
CREATED:20250930T151901Z
LAST-MODIFIED:20260422T234644Z
UID:9616-1783703700-1783710900@thedailydraft.net
SUMMARY:Braves at Cardinals
DESCRIPTION:
URL:https://thedailydraft.net/event/braves-at-cardinals-11/
LOCATION:Busch Stadium\, 800 Clark Ave\, Saint Louis\, MO\, United States
CATEGORIES:sport
END:VEVENT
BEGIN:VEVENT
DTSTART;TZID=America/Los_Angeles:20260711T161500
DTEND;TZID=America/Los_Angeles:20260711T181500
DTSTAMP:20260423T114708
CREATED:20250930T151903Z
LAST-MODIFIED:20260422T234644Z
UID:9617-1783786500-1783793700@thedailydraft.net
SUMMARY:Braves at Cardinals
DESCRIPTION:
URL:https://thedailydraft.net/event/braves-at-cardinals-12/
LOCATION:Busch Stadium\, 800 Clark Ave\, Saint Louis\, MO\, United States
CATEGORIES:sport
END:VEVENT
BEGIN:VEVENT
DTSTART;TZID=America/Los_Angeles:20260712T111500
DTEND;TZID=America/Los_Angeles:20260712T131500
DTSTAMP:20260423T114708
CREATED:20250930T151903Z
LAST-MODIFIED:20260422T234644Z
UID:9618-1783854900-1783862100@thedailydraft.net
SUMMARY:Braves at Cardinals
DESCRIPTION:
URL:https://thedailydraft.net/event/braves-at-cardinals-13/
LOCATION:Busch Stadium\, 800 Clark Ave\, Saint Louis\, MO\, United States
CATEGORIES:sport
END:VEVENT
BEGIN:VEVENT
DTSTART;VALUE=DATE:20230509
DTEND;VALUE=DATE:20230510
DTSTAMP:20260423T114708
CREATED:20230505T033354Z
LAST-MODIFIED:20230519T142759Z
UID:3699-1683590400-1683676799@thedailydraft.net
SUMMARY:Wing Night
DESCRIPTION:Enjoy our signature wings for .75 all night long.\nDine in Only (Min 6 wings)
URL:https://thedailydraft.net/event/wing-night/
LOCATION:NY
CATEGORIES:Running Plays
ATTACH;FMTTYPE=image/jpeg:https://thedailydraft.net/wp-content/uploads/2023/05/DSC_7804-15-scaled.jpg
END:VEVENT
BEGIN:VEVENT
DTSTART;VALUE=DATE:20230517
DTEND;VALUE=DATE:20230518
DTSTAMP:20260423T114708
CREATED:20230519T142944Z
LAST-MODIFIED:20230519T142945Z
UID:3944-1684281600-1684367999@thedailydraft.net
SUMMARY:Pool Night
DESCRIPTION:1 Free game of pool with a purchase of an entree
URL:https://thedailydraft.net/event/pool-night-2/
LOCATION:NY
CATEGORIES:Running Plays
ATTACH;FMTTYPE=image/jpeg:https://thedailydraft.net/wp-content/uploads/2023/05/328250188_1723026221450060_8329244144697187216_n.jpg
END:VEVENT
BEGIN:VEVENT
DTSTART;VALUE=DATE:20230511
DTEND;VALUE=DATE:20230512
DTSTAMP:20260423T114708
CREATED:20230505T040102Z
LAST-MODIFIED:20230519T142550Z
UID:3705-1683763200-1683849599@thedailydraft.net
SUMMARY:Singo
DESCRIPTION:Music Bingo Night w/ Lightsup! Entertainment at 7PM
URL:https://thedailydraft.net/event/singo/
LOCATION:NY
CATEGORIES:Running Plays
END:VEVENT
BEGIN:VEVENT
DTSTART;TZID=America/Los_Angeles:20260717T161500
DTEND;TZID=America/Los_Angeles:20260717T181500
DTSTAMP:20260423T114708
CREATED:20250930T151903Z
LAST-MODIFIED:20260422T234644Z
UID:9619-1784304900-1784312100@thedailydraft.net
SUMMARY:Rangers at Braves
DESCRIPTION:
URL:https://thedailydraft.net/event/rangers-at-braves/
LOCATION:Truist Park\, 2901 Battery Way\, Atlanta\, GA\, United States
CATEGORIES:sport
END:VEVENT
BEGIN:VEVENT
DTSTART;TZID=America/Los_Angeles:20260717T170000
DTEND;TZID=America/Los_Angeles:20260717T190000
DTSTAMP:20260423T114708
CREATED:20251218T175928Z
LAST-MODIFIED:20260331T174646Z
UID:10480-1784307600-1784314800@thedailydraft.net
SUMMARY:Atlanta United FC at Nashville SC
DESCRIPTION:
URL:https://thedailydraft.net/event/atlanta-united-fc-at-nashville-sc/
LOCATION:Geodis Park\, Nashville\, TN\, United States
CATEGORIES:sport
END:VEVENT
BEGIN:VEVENT
DTSTART;TZID=America/Los_Angeles:20260718T131000
DTEND;TZID=America/Los_Angeles:20260718T151000
DTSTAMP:20260423T114708
CREATED:20250930T151904Z
LAST-MODIFIED:20260422T234644Z
UID:9620-1784380200-1784387400@thedailydraft.net
SUMMARY:Rangers at Braves
DESCRIPTION:
URL:https://thedailydraft.net/event/rangers-at-braves-2/
LOCATION:Truist Park\, 2901 Battery Way\, Atlanta\, GA\, United States
CATEGORIES:sport
END:VEVENT
BEGIN:VEVENT
DTSTART;VALUE=DATE:20230521
DTEND;VALUE=DATE:20230522
DTSTAMP:20260423T114708
CREATED:20230505T040532Z
LAST-MODIFIED:20230519T143350Z
UID:3709-1684627200-1684713599@thedailydraft.net
SUMMARY:Karaoke Night
DESCRIPTION:Karaoke Night with Swing Shift Entertainment on the first and third Sunday of every month at 6PM
URL:https://thedailydraft.net/event/karaoke-night-2/
LOCATION:NY
CATEGORIES:Running Plays
END:VEVENT
BEGIN:VEVENT
DTSTART;TZID=America/Los_Angeles:20260719T103500
DTEND;TZID=America/Los_Angeles:20260719T123500
DTSTAMP:20260423T114708
CREATED:20250930T151904Z
LAST-MODIFIED:20260422T234644Z
UID:9621-1784457300-1784464500@thedailydraft.net
SUMMARY:Rangers at Braves
DESCRIPTION:
URL:https://thedailydraft.net/event/rangers-at-braves-3/
LOCATION:Truist Park\, 2901 Battery Way\, Atlanta\, GA\, United States
CATEGORIES:sport
END:VEVENT
BEGIN:VEVENT
DTSTART;TZID=America/Los_Angeles:20260720T161500
DTEND;TZID=America/Los_Angeles:20260720T181500
DTSTAMP:20260423T114708
CREATED:20250930T151904Z
LAST-MODIFIED:20260422T234644Z
UID:9622-1784564100-1784571300@thedailydraft.net
SUMMARY:Padres at Braves
DESCRIPTION:
URL:https://thedailydraft.net/event/padres-at-braves-4/
LOCATION:Truist Park\, 2901 Battery Way\, Atlanta\, GA\, United States
CATEGORIES:sport
END:VEVENT
BEGIN:VEVENT
DTSTART;VALUE=DATE:20230509
DTEND;VALUE=DATE:20230510
DTSTAMP:20260423T114708
CREATED:20230505T033354Z
LAST-MODIFIED:20230519T142759Z
UID:3699-1683590400-1683676799@thedailydraft.net
SUMMARY:Wing Night
DESCRIPTION:Enjoy our signature wings for .75 all night long.\nDine in Only (Min 6 wings)
URL:https://thedailydraft.net/event/wing-night/
LOCATION:NY
CATEGORIES:Running Plays
ATTACH;FMTTYPE=image/jpeg:https://thedailydraft.net/wp-content/uploads/2023/05/DSC_7804-15-scaled.jpg
END:VEVENT
BEGIN:VEVENT
DTSTART;TZID=America/Los_Angeles:20260721T161500
DTEND;TZID=America/Los_Angeles:20260721T181500
DTSTAMP:20260423T114708
CREATED:20250930T151904Z
LAST-MODIFIED:20260422T234645Z
UID:9623-1784650500-1784657700@thedailydraft.net
SUMMARY:Padres at Braves
DESCRIPTION:
URL:https://thedailydraft.net/event/padres-at-braves-5/
LOCATION:Truist Park\, 2901 Battery Way\, Atlanta\, GA\, United States
CATEGORIES:sport
END:VEVENT
BEGIN:VEVENT
DTSTART;VALUE=DATE:20230517
DTEND;VALUE=DATE:20230518
DTSTAMP:20260423T114708
CREATED:20230519T142944Z
LAST-MODIFIED:20230519T142945Z
UID:3944-1684281600-1684367999@thedailydraft.net
SUMMARY:Pool Night
DESCRIPTION:1 Free game of pool with a purchase of an entree
URL:https://thedailydraft.net/event/pool-night-2/
LOCATION:NY
CATEGORIES:Running Plays
ATTACH;FMTTYPE=image/jpeg:https://thedailydraft.net/wp-content/uploads/2023/05/328250188_1723026221450060_8329244144697187216_n.jpg
END:VEVENT
BEGIN:VEVENT
DTSTART;TZID=America/Los_Angeles:20260722T161500
DTEND;TZID=America/Los_Angeles:20260722T181500
DTSTAMP:20260423T114708
CREATED:20250930T151905Z
LAST-MODIFIED:20260422T234645Z
UID:9624-1784736900-1784744100@thedailydraft.net
SUMMARY:Padres at Braves
DESCRIPTION:
URL:https://thedailydraft.net/event/padres-at-braves-6/
LOCATION:Truist Park\, 2901 Battery Way\, Atlanta\, GA\, United States
CATEGORIES:sport
END:VEVENT
END:VCALENDAR