BEGIN:VCALENDAR
VERSION:2.0
PRODID:-//The Daily Draft - ECPv6.15.20//NONSGML v1.0//EN
CALSCALE:GREGORIAN
METHOD:PUBLISH
X-ORIGINAL-URL:https://thedailydraft.net
X-WR-CALDESC:Events for The Daily Draft
REFRESH-INTERVAL;VALUE=DURATION:PT1H
X-Robots-Tag:noindex
X-PUBLISHED-TTL:PT1H
BEGIN:VTIMEZONE
TZID:America/Los_Angeles
BEGIN:DAYLIGHT
TZOFFSETFROM:-0800
TZOFFSETTO:-0700
TZNAME:PDT
DTSTART:20250309T100000
END:DAYLIGHT
BEGIN:STANDARD
TZOFFSETFROM:-0700
TZOFFSETTO:-0800
TZNAME:PST
DTSTART:20251102T090000
END:STANDARD
BEGIN:DAYLIGHT
TZOFFSETFROM:-0800
TZOFFSETTO:-0700
TZNAME:PDT
DTSTART:20260308T100000
END:DAYLIGHT
BEGIN:STANDARD
TZOFFSETFROM:-0700
TZOFFSETTO:-0800
TZNAME:PST
DTSTART:20261101T090000
END:STANDARD
BEGIN:DAYLIGHT
TZOFFSETFROM:-0800
TZOFFSETTO:-0700
TZNAME:PDT
DTSTART:20270314T100000
END:DAYLIGHT
BEGIN:STANDARD
TZOFFSETFROM:-0700
TZOFFSETTO:-0800
TZNAME:PST
DTSTART:20271107T090000
END:STANDARD
END:VTIMEZONE
BEGIN:VTIMEZONE
TZID:America/New_York
BEGIN:DAYLIGHT
TZOFFSETFROM:-0500
TZOFFSETTO:-0400
TZNAME:EDT
DTSTART:20220313T070000
END:DAYLIGHT
BEGIN:STANDARD
TZOFFSETFROM:-0400
TZOFFSETTO:-0500
TZNAME:EST
DTSTART:20221106T060000
END:STANDARD
BEGIN:DAYLIGHT
TZOFFSETFROM:-0500
TZOFFSETTO:-0400
TZNAME:EDT
DTSTART:20230312T070000
END:DAYLIGHT
BEGIN:STANDARD
TZOFFSETFROM:-0400
TZOFFSETTO:-0500
TZNAME:EST
DTSTART:20231105T060000
END:STANDARD
BEGIN:DAYLIGHT
TZOFFSETFROM:-0500
TZOFFSETTO:-0400
TZNAME:EDT
DTSTART:20240310T070000
END:DAYLIGHT
BEGIN:STANDARD
TZOFFSETFROM:-0400
TZOFFSETTO:-0500
TZNAME:EST
DTSTART:20241103T060000
END:STANDARD
END:VTIMEZONE
BEGIN:VEVENT
DTSTART;TZID=America/Los_Angeles:20260301T100500
DTEND;TZID=America/Los_Angeles:20260301T120500
DTSTAMP:20260419T084947
CREATED:20251106T201602Z
LAST-MODIFIED:20260301T123129Z
UID:10074-1772359500-1772366700@thedailydraft.net
SUMMARY:Rays at Braves
DESCRIPTION:
URL:https://thedailydraft.net/event/rays-at-braves-6/
LOCATION:CoolToday Park\, 4098 Westfield Ct\, Sarasota\, FL\, United States
CATEGORIES:sport
END:VEVENT
BEGIN:VEVENT
DTSTART;TZID=America/Los_Angeles:20260301T100500
DTEND;TZID=America/Los_Angeles:20260301T120500
DTSTAMP:20260419T084947
CREATED:20251106T201602Z
LAST-MODIFIED:20260301T123130Z
UID:10073-1772359500-1772366700@thedailydraft.net
SUMMARY:Braves at Twins
DESCRIPTION:
URL:https://thedailydraft.net/event/braves-at-twins-9/
LOCATION:Lee Health Sports Complex
CATEGORIES:sport
END:VEVENT
BEGIN:VEVENT
DTSTART;TZID=America/Los_Angeles:20260301T150000
DTEND;TZID=America/Los_Angeles:20260301T170000
DTSTAMP:20260419T084947
CREATED:20250816T123917Z
LAST-MODIFIED:20260301T223556Z
UID:9273-1772377200-1772384400@thedailydraft.net
SUMMARY:Portland Trail Blazers at Atlanta Hawks
DESCRIPTION:
URL:https://thedailydraft.net/event/trail-blazers-at-hawks-2/
LOCATION:State Farm Arena\, 1800 Phillips Ct\, Atlanta\, GA\, United States
CATEGORIES:sport
END:VEVENT
BEGIN:VEVENT
DTSTART;TZID=America/Los_Angeles:20260302T100500
DTEND;TZID=America/Los_Angeles:20260302T120500
DTSTAMP:20260419T084947
CREATED:20251106T201615Z
LAST-MODIFIED:20260302T123436Z
UID:10075-1772445900-1772453100@thedailydraft.net
SUMMARY:Braves at Tigers
DESCRIPTION:
URL:https://thedailydraft.net/event/braves-at-tigers-11/
LOCATION:Publix Field at Joker Marchant Stadium\, 2301 Lakeland Hills Blvd\, Lakeland\, FL\, United States
CATEGORIES:sport
END:VEVENT
BEGIN:VEVENT
DTSTART;VALUE=DATE:20230509
DTEND;VALUE=DATE:20230510
DTSTAMP:20260419T084947
CREATED:20230505T033354Z
LAST-MODIFIED:20230519T142759Z
UID:3699-1683590400-1683676799@thedailydraft.net
SUMMARY:Wing Night
DESCRIPTION:Enjoy our signature wings for .75 all night long.\nDine in Only (Min 6 wings)
URL:https://thedailydraft.net/event/wing-night/
LOCATION:GA
CATEGORIES:Running Plays
ATTACH;FMTTYPE=image/jpeg:https://thedailydraft.net/wp-content/uploads/2023/05/DSC_7804-15-scaled.jpg
END:VEVENT
BEGIN:VEVENT
DTSTART;VALUE=DATE:20230517
DTEND;VALUE=DATE:20230518
DTSTAMP:20260419T084947
CREATED:20230519T142944Z
LAST-MODIFIED:20230519T142945Z
UID:3944-1684281600-1684367999@thedailydraft.net
SUMMARY:Pool Night
DESCRIPTION:1 Free game of pool with a purchase of an entree
URL:https://thedailydraft.net/event/pool-night-2/
LOCATION:GA
CATEGORIES:Running Plays
ATTACH;FMTTYPE=image/jpeg:https://thedailydraft.net/wp-content/uploads/2023/05/328250188_1723026221450060_8329244144697187216_n.jpg
END:VEVENT
BEGIN:VEVENT
DTSTART;TZID=America/Los_Angeles:20260304T100500
DTEND;TZID=America/Los_Angeles:20260304T120500
DTSTAMP:20260419T084947
CREATED:20251106T201615Z
LAST-MODIFIED:20260304T124652Z
UID:10076-1772618700-1772625900@thedailydraft.net
SUMMARY:Colombia at Braves
DESCRIPTION:
URL:https://thedailydraft.net/event/colombia-at-braves/
LOCATION:CoolToday Park\, 4098 Westfield Ct\, Sarasota\, FL\, United States
CATEGORIES:sport
END:VEVENT
BEGIN:VEVENT
DTSTART;TZID=America/Los_Angeles:20260304T183000
DTEND;TZID=America/Los_Angeles:20260304T203000
DTSTAMP:20260419T084947
CREATED:20250816T123918Z
LAST-MODIFIED:20260303T223305Z
UID:9274-1772649000-1772656200@thedailydraft.net
SUMMARY:Atlanta Hawks at Milwaukee Bucks
DESCRIPTION:
URL:https://thedailydraft.net/event/hawks-at-bucks-5/
LOCATION:Fiserv Forum\, 5901 S Phillips St\, Milwaukee\, WI\, United States
CATEGORIES:sport
END:VEVENT
BEGIN:VEVENT
DTSTART;VALUE=DATE:20230511
DTEND;VALUE=DATE:20230512
DTSTAMP:20260419T084947
CREATED:20230505T040102Z
LAST-MODIFIED:20230519T142550Z
UID:3705-1683763200-1683849599@thedailydraft.net
SUMMARY:Singo
DESCRIPTION:Music Bingo Night w/ Lightsup! Entertainment at 7PM
URL:https://thedailydraft.net/event/singo/
LOCATION:GA
CATEGORIES:Running Plays
END:VEVENT
BEGIN:VEVENT
DTSTART;TZID=America/Los_Angeles:20260305T100500
DTEND;TZID=America/Los_Angeles:20260305T120500
DTSTAMP:20260419T084947
CREATED:20251106T201616Z
LAST-MODIFIED:20260305T124817Z
UID:10077-1772705100-1772712300@thedailydraft.net
SUMMARY:Blue Jays at Braves
DESCRIPTION:
URL:https://thedailydraft.net/event/blue-jays-at-braves-8/
LOCATION:CoolToday Park\, 4098 Westfield Ct\, Sarasota\, FL\, United States
CATEGORIES:sport
END:VEVENT
BEGIN:VEVENT
DTSTART;TZID=America/Los_Angeles:20260306T150500
DTEND;TZID=America/Los_Angeles:20260306T170500
DTSTAMP:20260419T084947
CREATED:20251106T201616Z
LAST-MODIFIED:20260306T125859Z
UID:10078-1772809500-1772816700@thedailydraft.net
SUMMARY:Braves at Twins
DESCRIPTION:
URL:https://thedailydraft.net/event/braves-at-twins-10/
LOCATION:Lee Health Sports Complex
CATEGORIES:sport
END:VEVENT
BEGIN:VEVENT
DTSTART;TZID=America/Los_Angeles:20260307T100500
DTEND;TZID=America/Los_Angeles:20260307T120500
DTSTAMP:20260419T084947
CREATED:20251106T201616Z
LAST-MODIFIED:20260307T130808Z
UID:10079-1772877900-1772885100@thedailydraft.net
SUMMARY:Orioles at Braves
DESCRIPTION:
URL:https://thedailydraft.net/event/orioles-at-braves-5/
LOCATION:CoolToday Park\, 4098 Westfield Ct\, Sarasota\, FL\, United States
CATEGORIES:sport
END:VEVENT
BEGIN:VEVENT
DTSTART;TZID=America/Los_Angeles:20260307T150000
DTEND;TZID=America/Los_Angeles:20260307T170000
DTSTAMP:20260419T084947
CREATED:20250816T123918Z
LAST-MODIFIED:20260307T232141Z
UID:9275-1772895600-1772902800@thedailydraft.net
SUMMARY:Philadelphia 76ers at Atlanta Hawks
DESCRIPTION:
URL:https://thedailydraft.net/event/76ers-at-hawks-3/
LOCATION:State Farm Arena\, 1800 Phillips Ct\, Atlanta\, GA\, United States
CATEGORIES:sport
END:VEVENT
BEGIN:VEVENT
DTSTART;TZID=America/Los_Angeles:20260307T163000
DTEND;TZID=America/Los_Angeles:20260307T183000
DTSTAMP:20260419T084947
CREATED:20251218T175924Z
LAST-MODIFIED:20260307T144917Z
UID:10466-1772901000-1772908200@thedailydraft.net
SUMMARY:Real Salt Lake at Atlanta United FC
DESCRIPTION:
URL:https://thedailydraft.net/event/real-salt-lake-at-atlanta-united-fc/
LOCATION:Mercedes-Benz Stadium\, Atlanta\, GA\, United States
CATEGORIES:sport
END:VEVENT
BEGIN:VEVENT
DTSTART;TZID=America/Los_Angeles:20260308T100500
DTEND;TZID=America/Los_Angeles:20260308T120500
DTSTAMP:20260419T084947
CREATED:20251106T201616Z
LAST-MODIFIED:20260308T131953Z
UID:10080-1772964300-1772971500@thedailydraft.net
SUMMARY:Braves at Rays
DESCRIPTION:
URL:https://thedailydraft.net/event/braves-at-rays-14/
LOCATION:Charlotte Sports Park\, 2300 el Jobean Rd\, Port Charlotte\, FL\, United States
CATEGORIES:sport
END:VEVENT
BEGIN:VEVENT
DTSTART;TZID=America/Los_Angeles:20260309T100500
DTEND;TZID=America/Los_Angeles:20260309T120500
DTSTAMP:20260419T084947
CREATED:20251106T201617Z
LAST-MODIFIED:20260309T133551Z
UID:10081-1773050700-1773057900@thedailydraft.net
SUMMARY:Twins at Braves
DESCRIPTION:
URL:https://thedailydraft.net/event/twins-at-braves-7/
LOCATION:CoolToday Park\, 4098 Westfield Ct\, Sarasota\, FL\, United States
CATEGORIES:sport
END:VEVENT
BEGIN:VEVENT
DTSTART;VALUE=DATE:20230509
DTEND;VALUE=DATE:20230510
DTSTAMP:20260419T084947
CREATED:20230505T033354Z
LAST-MODIFIED:20230519T142759Z
UID:3699-1683590400-1683676799@thedailydraft.net
SUMMARY:Wing Night
DESCRIPTION:Enjoy our signature wings for .75 all night long.\nDine in Only (Min 6 wings)
URL:https://thedailydraft.net/event/wing-night/
LOCATION:GA
CATEGORIES:Running Plays
ATTACH;FMTTYPE=image/jpeg:https://thedailydraft.net/wp-content/uploads/2023/05/DSC_7804-15-scaled.jpg
END:VEVENT
BEGIN:VEVENT
DTSTART;TZID=America/Los_Angeles:20260310T100700
DTEND;TZID=America/Los_Angeles:20260310T120700
DTSTAMP:20260419T084947
CREATED:20251106T201617Z
LAST-MODIFIED:20260310T134751Z
UID:10082-1773137220-1773144420@thedailydraft.net
SUMMARY:Braves at Blue Jays
DESCRIPTION:
URL:https://thedailydraft.net/event/braves-at-blue-jays-8/
LOCATION:TD Ballpark\, 373 Douglas Ave\, Dunedin\, FL\, United States
CATEGORIES:sport
END:VEVENT
BEGIN:VEVENT
DTSTART;TZID=America/Los_Angeles:20260310T163000
DTEND;TZID=America/Los_Angeles:20260310T183000
DTSTAMP:20260419T084947
CREATED:20250816T123918Z
LAST-MODIFIED:20260311T000603Z
UID:9276-1773160200-1773167400@thedailydraft.net
SUMMARY:Dallas Mavericks at Atlanta Hawks
DESCRIPTION:
URL:https://thedailydraft.net/event/mavericks-at-hawks/
LOCATION:State Farm Arena\, 1800 Phillips Ct\, Atlanta\, GA\, United States
CATEGORIES:sport
END:VEVENT
BEGIN:VEVENT
DTSTART;VALUE=DATE:20230517
DTEND;VALUE=DATE:20230518
DTSTAMP:20260419T084947
CREATED:20230519T142944Z
LAST-MODIFIED:20230519T142945Z
UID:3944-1684281600-1684367999@thedailydraft.net
SUMMARY:Pool Night
DESCRIPTION:1 Free game of pool with a purchase of an entree
URL:https://thedailydraft.net/event/pool-night-2/
LOCATION:GA
CATEGORIES:Running Plays
ATTACH;FMTTYPE=image/jpeg:https://thedailydraft.net/wp-content/uploads/2023/05/328250188_1723026221450060_8329244144697187216_n.jpg
END:VEVENT
BEGIN:VEVENT
DTSTART;TZID=America/Los_Angeles:20260311T100500
DTEND;TZID=America/Los_Angeles:20260311T120500
DTSTAMP:20260419T084947
CREATED:20251106T201617Z
LAST-MODIFIED:20260311T140452Z
UID:10083-1773223500-1773230700@thedailydraft.net
SUMMARY:Rays at Braves
DESCRIPTION:
URL:https://thedailydraft.net/event/rays-at-braves-7/
LOCATION:CoolToday Park\, 4098 Westfield Ct\, Sarasota\, FL\, United States
CATEGORIES:sport
END:VEVENT
BEGIN:VEVENT
DTSTART;VALUE=DATE:20230511
DTEND;VALUE=DATE:20230512
DTSTAMP:20260419T084947
CREATED:20230505T040102Z
LAST-MODIFIED:20230519T142550Z
UID:3705-1683763200-1683849599@thedailydraft.net
SUMMARY:Singo
DESCRIPTION:Music Bingo Night w/ Lightsup! Entertainment at 7PM
URL:https://thedailydraft.net/event/singo/
LOCATION:GA
CATEGORIES:Running Plays
END:VEVENT
BEGIN:VEVENT
DTSTART;TZID=America/Los_Angeles:20260312T150500
DTEND;TZID=America/Los_Angeles:20260312T170500
DTSTAMP:20260419T084947
CREATED:20251106T201617Z
LAST-MODIFIED:20260312T141809Z
UID:10084-1773327900-1773335100@thedailydraft.net
SUMMARY:Braves at Pirates
DESCRIPTION:
URL:https://thedailydraft.net/event/braves-at-pirates-18/
LOCATION:LECOM Park\, 1611 9th St W\, Bradenton\, FL\, United States
CATEGORIES:sport
END:VEVENT
BEGIN:VEVENT
DTSTART;TZID=America/Los_Angeles:20260312T163000
DTEND;TZID=America/Los_Angeles:20260312T183000
DTSTAMP:20260419T084947
CREATED:20250816T123918Z
LAST-MODIFIED:20260313T003615Z
UID:9277-1773333000-1773340200@thedailydraft.net
SUMMARY:Brooklyn Nets at Atlanta Hawks
DESCRIPTION:
URL:https://thedailydraft.net/event/nets-at-hawks-2/
LOCATION:State Farm Arena\, 1800 Phillips Ct\, Atlanta\, GA\, United States
CATEGORIES:sport
END:VEVENT
BEGIN:VEVENT
DTSTART;TZID=America/Los_Angeles:20260313T100500
DTEND;TZID=America/Los_Angeles:20260313T120500
DTSTAMP:20260419T084947
CREATED:20251106T201631Z
LAST-MODIFIED:20260313T143110Z
UID:10085-1773396300-1773403500@thedailydraft.net
SUMMARY:Yankees at Braves
DESCRIPTION:
URL:https://thedailydraft.net/event/yankees-at-braves-5/
LOCATION:CoolToday Park\, 4098 Westfield Ct\, Sarasota\, FL\, United States
CATEGORIES:sport
END:VEVENT
BEGIN:VEVENT
DTSTART;TZID=America/Los_Angeles:20260314T120000
DTEND;TZID=America/Los_Angeles:20260314T140000
DTSTAMP:20260419T084947
CREATED:20250816T123919Z
LAST-MODIFIED:20260314T004839Z
UID:9278-1773489600-1773496800@thedailydraft.net
SUMMARY:Milwaukee Bucks at Atlanta Hawks
DESCRIPTION:
URL:https://thedailydraft.net/event/bucks-at-hawks-4/
LOCATION:State Farm Arena\, 1800 Phillips Ct\, Atlanta\, GA\, United States
CATEGORIES:sport
END:VEVENT
BEGIN:VEVENT
DTSTART;TZID=America/Los_Angeles:20260314T121500
DTEND;TZID=America/Los_Angeles:20260314T141500
DTSTAMP:20260419T084947
CREATED:20251218T175925Z
LAST-MODIFIED:20260314T160518Z
UID:10467-1773490500-1773497700@thedailydraft.net
SUMMARY:Philadelphia Union at Atlanta United FC
DESCRIPTION:
URL:https://thedailydraft.net/event/philadelphia-union-at-atlanta-united-fc/
LOCATION:Mercedes-Benz Stadium\, Atlanta\, GA\, United States
CATEGORIES:sport
END:VEVENT
BEGIN:VEVENT
DTSTART;TZID=America/Los_Angeles:20260314T150500
DTEND;TZID=America/Los_Angeles:20260314T170500
DTSTAMP:20260419T084947
CREATED:20251106T201631Z
LAST-MODIFIED:20260314T143912Z
UID:10086-1773500700-1773507900@thedailydraft.net
SUMMARY:Red Sox at Braves
DESCRIPTION:
URL:https://thedailydraft.net/event/red-sox-at-braves-10/
LOCATION:CoolToday Park\, 4098 Westfield Ct\, Sarasota\, FL\, United States
CATEGORIES:sport
END:VEVENT
BEGIN:VEVENT
DTSTART;VALUE=DATE:20230521
DTEND;VALUE=DATE:20230522
DTSTAMP:20260419T084947
CREATED:20230505T040532Z
LAST-MODIFIED:20230519T143350Z
UID:3709-1684627200-1684713599@thedailydraft.net
SUMMARY:Karaoke Night
DESCRIPTION:Karaoke Night with Swing Shift Entertainment on the first and third Sunday of every month at 6PM
URL:https://thedailydraft.net/event/karaoke-night-2/
LOCATION:GA
CATEGORIES:Running Plays
END:VEVENT
BEGIN:VEVENT
DTSTART;TZID=America/Los_Angeles:20260315T100500
DTEND;TZID=America/Los_Angeles:20260315T120500
DTSTAMP:20260419T084947
CREATED:20251106T201631Z
LAST-MODIFIED:20260315T144915Z
UID:10087-1773569100-1773576300@thedailydraft.net
SUMMARY:Braves at Phillies
DESCRIPTION:
URL:https://thedailydraft.net/event/braves-at-phillies-44/
LOCATION:BayCare Ballpark\, 601 Old Coachman Rd\, Clearwater\, FL\, United States
CATEGORIES:sport
END:VEVENT
END:VCALENDAR