BEGIN:VCALENDAR
VERSION:2.0
PRODID:-//The Daily Draft - ECPv6.15.20//NONSGML v1.0//EN
CALSCALE:GREGORIAN
METHOD:PUBLISH
X-WR-CALNAME:The Daily Draft
X-ORIGINAL-URL:https://thedailydraft.net
X-WR-CALDESC:Events for The Daily Draft
REFRESH-INTERVAL;VALUE=DURATION:PT1H
X-Robots-Tag:noindex
X-PUBLISHED-TTL:PT1H
BEGIN:VTIMEZONE
TZID:America/Los_Angeles
BEGIN:DAYLIGHT
TZOFFSETFROM:-0800
TZOFFSETTO:-0700
TZNAME:PDT
DTSTART:20240310T100000
END:DAYLIGHT
BEGIN:STANDARD
TZOFFSETFROM:-0700
TZOFFSETTO:-0800
TZNAME:PST
DTSTART:20241103T090000
END:STANDARD
BEGIN:DAYLIGHT
TZOFFSETFROM:-0800
TZOFFSETTO:-0700
TZNAME:PDT
DTSTART:20250309T100000
END:DAYLIGHT
BEGIN:STANDARD
TZOFFSETFROM:-0700
TZOFFSETTO:-0800
TZNAME:PST
DTSTART:20251102T090000
END:STANDARD
BEGIN:DAYLIGHT
TZOFFSETFROM:-0800
TZOFFSETTO:-0700
TZNAME:PDT
DTSTART:20260308T100000
END:DAYLIGHT
BEGIN:STANDARD
TZOFFSETFROM:-0700
TZOFFSETTO:-0800
TZNAME:PST
DTSTART:20261101T090000
END:STANDARD
END:VTIMEZONE
BEGIN:VEVENT
DTSTART;VALUE=DATE:20250816
DTEND;VALUE=DATE:20250817
DTSTAMP:20260424T042106
CREATED:20240720T075729Z
LAST-MODIFIED:20240830T163201Z
UID:6382-1755302400-1755388799@thedailydraft.net
SUMMARY:Braves at Guardians
DESCRIPTION:
URL:https://thedailydraft.net/event/braves-at-guardians-6/
LOCATION:Progressive Field\, 2401 Ontario St\, Cleveland\, OH\, United States
CATEGORIES:sport
END:VEVENT
BEGIN:VEVENT
DTSTART;TZID=America/Los_Angeles:20250816T161000
DTEND;TZID=America/Los_Angeles:20250816T181000
DTSTAMP:20260424T042106
CREATED:20240815T132727Z
LAST-MODIFIED:20250816T102357Z
UID:6717-1755360600-1755367800@thedailydraft.net
SUMMARY:Braves at Guardians
DESCRIPTION:
URL:https://thedailydraft.net/event/braves-at-guardians-8/
LOCATION:Progressive Field\, 2401 Ontario St\, Cleveland\, OH\, United States
CATEGORIES:sport
END:VEVENT
BEGIN:VEVENT
DTSTART;TZID=America/Los_Angeles:20250816T183000
DTEND;TZID=America/Los_Angeles:20250816T203000
DTSTAMP:20260424T042106
CREATED:20241225T193923Z
LAST-MODIFIED:20250816T060902Z
UID:7795-1755369000-1755376200@thedailydraft.net
SUMMARY:Atlanta at Colorado
DESCRIPTION:
URL:https://thedailydraft.net/event/atlanta-at-colorado/
LOCATION:Dick’s Sporting Goods Park\, Hudson\, CO\, United States
CATEGORIES:sport
END:VEVENT
END:VCALENDAR