BEGIN:VCALENDAR
VERSION:2.0
PRODID:-//The Daily Draft - ECPv6.15.20//NONSGML v1.0//EN
CALSCALE:GREGORIAN
METHOD:PUBLISH
X-ORIGINAL-URL:https://thedailydraft.net
X-WR-CALDESC:Events for The Daily Draft
REFRESH-INTERVAL;VALUE=DURATION:PT1H
X-Robots-Tag:noindex
X-PUBLISHED-TTL:PT1H
BEGIN:VTIMEZONE
TZID:America/Los_Angeles
BEGIN:DAYLIGHT
TZOFFSETFROM:-0800
TZOFFSETTO:-0700
TZNAME:PDT
DTSTART:20250309T100000
END:DAYLIGHT
BEGIN:STANDARD
TZOFFSETFROM:-0700
TZOFFSETTO:-0800
TZNAME:PST
DTSTART:20251102T090000
END:STANDARD
BEGIN:DAYLIGHT
TZOFFSETFROM:-0800
TZOFFSETTO:-0700
TZNAME:PDT
DTSTART:20260308T100000
END:DAYLIGHT
BEGIN:STANDARD
TZOFFSETFROM:-0700
TZOFFSETTO:-0800
TZNAME:PST
DTSTART:20261101T090000
END:STANDARD
BEGIN:DAYLIGHT
TZOFFSETFROM:-0800
TZOFFSETTO:-0700
TZNAME:PDT
DTSTART:20270314T100000
END:DAYLIGHT
BEGIN:STANDARD
TZOFFSETFROM:-0700
TZOFFSETTO:-0800
TZNAME:PST
DTSTART:20271107T090000
END:STANDARD
END:VTIMEZONE
BEGIN:VEVENT
DTSTART;TZID=America/Los_Angeles:20260425T100000
DTEND;TZID=America/Los_Angeles:20260425T120000
DTSTAMP:20260421T050332
CREATED:20251218T175926Z
LAST-MODIFIED:20260331T174645Z
UID:10474-1777111200-1777118400@thedailydraft.net
SUMMARY:Atlanta United FC at Toronto FC
DESCRIPTION:
URL:https://thedailydraft.net/event/atlanta-united-fc-at-toronto-fc/
LOCATION:BMO Field
CATEGORIES:sport
END:VEVENT
BEGIN:VEVENT
DTSTART;TZID=America/Los_Angeles:20260425T150000
DTEND;TZID=America/Los_Angeles:20260425T170000
DTSTAMP:20260421T050332
CREATED:20260417T080056Z
LAST-MODIFIED:20260421T080118Z
UID:11218-1777129200-1777136400@thedailydraft.net
SUMMARY:New York Knicks at Atlanta Hawks
DESCRIPTION:
URL:https://thedailydraft.net/event/new-york-knicks-at-atlanta-hawks-2/
LOCATION:State Farm Arena\, 1800 Phillips Ct\, Atlanta\, GA\, United States
CATEGORIES:sport
END:VEVENT
BEGIN:VEVENT
DTSTART;TZID=America/Los_Angeles:20260425T161500
DTEND;TZID=America/Los_Angeles:20260425T181500
DTSTAMP:20260421T050332
CREATED:20250930T151848Z
LAST-MODIFIED:20260420T234611Z
UID:9547-1777133700-1777140900@thedailydraft.net
SUMMARY:Phillies at Braves
DESCRIPTION:
URL:https://thedailydraft.net/event/phillies-at-braves-9/
LOCATION:Truist Park\, 2901 Battery Way\, Atlanta\, GA\, United States
CATEGORIES:sport
END:VEVENT
END:VCALENDAR