BEGIN:VCALENDAR
VERSION:2.0
PRODID:-//The Daily Draft - ECPv6.15.20//NONSGML v1.0//EN
CALSCALE:GREGORIAN
METHOD:PUBLISH
X-WR-CALNAME:The Daily Draft
X-ORIGINAL-URL:https://thedailydraft.net
X-WR-CALDESC:Events for The Daily Draft
REFRESH-INTERVAL;VALUE=DURATION:PT1H
X-Robots-Tag:noindex
X-PUBLISHED-TTL:PT1H
BEGIN:VTIMEZONE
TZID:America/Los_Angeles
BEGIN:DAYLIGHT
TZOFFSETFROM:-0800
TZOFFSETTO:-0700
TZNAME:PDT
DTSTART:20250309T100000
END:DAYLIGHT
BEGIN:STANDARD
TZOFFSETFROM:-0700
TZOFFSETTO:-0800
TZNAME:PST
DTSTART:20251102T090000
END:STANDARD
BEGIN:DAYLIGHT
TZOFFSETFROM:-0800
TZOFFSETTO:-0700
TZNAME:PDT
DTSTART:20260308T100000
END:DAYLIGHT
BEGIN:STANDARD
TZOFFSETFROM:-0700
TZOFFSETTO:-0800
TZNAME:PST
DTSTART:20261101T090000
END:STANDARD
BEGIN:DAYLIGHT
TZOFFSETFROM:-0800
TZOFFSETTO:-0700
TZNAME:PDT
DTSTART:20270314T100000
END:DAYLIGHT
BEGIN:STANDARD
TZOFFSETFROM:-0700
TZOFFSETTO:-0800
TZNAME:PST
DTSTART:20271107T090000
END:STANDARD
END:VTIMEZONE
BEGIN:VEVENT
DTSTART;TZID=America/Los_Angeles:20260307T100500
DTEND;TZID=America/Los_Angeles:20260307T120500
DTSTAMP:20260423T094523
CREATED:20251106T201616Z
LAST-MODIFIED:20260307T130808Z
UID:10079-1772877900-1772885100@thedailydraft.net
SUMMARY:Orioles at Braves
DESCRIPTION:
URL:https://thedailydraft.net/event/orioles-at-braves-5/
LOCATION:CoolToday Park\, 4098 Westfield Ct\, Sarasota\, FL\, United States
CATEGORIES:sport
END:VEVENT
BEGIN:VEVENT
DTSTART;TZID=America/Los_Angeles:20260307T150000
DTEND;TZID=America/Los_Angeles:20260307T170000
DTSTAMP:20260423T094523
CREATED:20250816T123918Z
LAST-MODIFIED:20260307T232141Z
UID:9275-1772895600-1772902800@thedailydraft.net
SUMMARY:Philadelphia 76ers at Atlanta Hawks
DESCRIPTION:
URL:https://thedailydraft.net/event/76ers-at-hawks-3/
LOCATION:State Farm Arena\, 1800 Phillips Ct\, Atlanta\, GA\, United States
CATEGORIES:sport
END:VEVENT
BEGIN:VEVENT
DTSTART;TZID=America/Los_Angeles:20260307T163000
DTEND;TZID=America/Los_Angeles:20260307T183000
DTSTAMP:20260423T094523
CREATED:20251218T175924Z
LAST-MODIFIED:20260307T144917Z
UID:10466-1772901000-1772908200@thedailydraft.net
SUMMARY:Real Salt Lake at Atlanta United FC
DESCRIPTION:
URL:https://thedailydraft.net/event/real-salt-lake-at-atlanta-united-fc/
LOCATION:Mercedes-Benz Stadium\, Atlanta\, GA\, United States
CATEGORIES:sport
END:VEVENT
END:VCALENDAR