BEGIN:VCALENDAR
VERSION:2.0
PRODID:-//The Daily Draft - ECPv6.15.20//NONSGML v1.0//EN
CALSCALE:GREGORIAN
METHOD:PUBLISH
X-WR-CALNAME:The Daily Draft
X-ORIGINAL-URL:https://thedailydraft.net
X-WR-CALDESC:Events for The Daily Draft
REFRESH-INTERVAL;VALUE=DURATION:PT1H
X-Robots-Tag:noindex
X-PUBLISHED-TTL:PT1H
BEGIN:VTIMEZONE
TZID:America/Los_Angeles
BEGIN:DAYLIGHT
TZOFFSETFROM:-0800
TZOFFSETTO:-0700
TZNAME:PDT
DTSTART:20240310T100000
END:DAYLIGHT
BEGIN:STANDARD
TZOFFSETFROM:-0700
TZOFFSETTO:-0800
TZNAME:PST
DTSTART:20241103T090000
END:STANDARD
BEGIN:DAYLIGHT
TZOFFSETFROM:-0800
TZOFFSETTO:-0700
TZNAME:PDT
DTSTART:20250309T100000
END:DAYLIGHT
BEGIN:STANDARD
TZOFFSETFROM:-0700
TZOFFSETTO:-0800
TZNAME:PST
DTSTART:20251102T090000
END:STANDARD
BEGIN:DAYLIGHT
TZOFFSETFROM:-0800
TZOFFSETTO:-0700
TZNAME:PDT
DTSTART:20260308T100000
END:DAYLIGHT
BEGIN:STANDARD
TZOFFSETFROM:-0700
TZOFFSETTO:-0800
TZNAME:PST
DTSTART:20261101T090000
END:STANDARD
END:VTIMEZONE
BEGIN:VEVENT
DTSTART;VALUE=DATE:20250607
DTEND;VALUE=DATE:20250608
DTSTAMP:20260423T082417
CREATED:20240720T075631Z
LAST-MODIFIED:20240830T163146Z
UID:6318-1749254400-1749340799@thedailydraft.net
SUMMARY:Braves at Giants
DESCRIPTION:
URL:https://thedailydraft.net/event/braves-at-giants-9/
LOCATION:Oracle Park\, San Francisco
CATEGORIES:sport
END:VEVENT
BEGIN:VEVENT
DTSTART;TZID=America/Los_Angeles:20250607T130500
DTEND;TZID=America/Los_Angeles:20250607T150500
DTSTAMP:20260423T082417
CREATED:20240815T132552Z
LAST-MODIFIED:20250607T175956Z
UID:6652-1749301500-1749308700@thedailydraft.net
SUMMARY:Braves at Giants
DESCRIPTION:
URL:https://thedailydraft.net/event/braves-at-giants-13/
LOCATION:Oracle Park\, 24 Willie Mays Plz\, San Francisco\, CA\, United States
CATEGORIES:sport
END:VEVENT
END:VCALENDAR